BEGIN:VCALENDAR
VERSION:2.0
PRODID:-//Lake Vermilion Cultural Center - ECPv6.15.20//NONSGML v1.0//EN
CALSCALE:GREGORIAN
METHOD:PUBLISH
X-WR-CALNAME:Lake Vermilion Cultural Center
X-ORIGINAL-URL:https://vermilionculturalcenter.org
X-WR-CALDESC:Events for Lake Vermilion Cultural Center
REFRESH-INTERVAL;VALUE=DURATION:PT1H
X-Robots-Tag:noindex
X-PUBLISHED-TTL:PT1H
BEGIN:VTIMEZONE
TZID:America/Chicago
BEGIN:DAYLIGHT
TZOFFSETFROM:-0600
TZOFFSETTO:-0500
TZNAME:CDT
DTSTART:20220313T080000
END:DAYLIGHT
BEGIN:STANDARD
TZOFFSETFROM:-0500
TZOFFSETTO:-0600
TZNAME:CST
DTSTART:20221106T070000
END:STANDARD
BEGIN:DAYLIGHT
TZOFFSETFROM:-0600
TZOFFSETTO:-0500
TZNAME:CDT
DTSTART:20230312T080000
END:DAYLIGHT
BEGIN:STANDARD
TZOFFSETFROM:-0500
TZOFFSETTO:-0600
TZNAME:CST
DTSTART:20231105T070000
END:STANDARD
BEGIN:DAYLIGHT
TZOFFSETFROM:-0600
TZOFFSETTO:-0500
TZNAME:CDT
DTSTART:20240310T080000
END:DAYLIGHT
BEGIN:STANDARD
TZOFFSETFROM:-0500
TZOFFSETTO:-0600
TZNAME:CST
DTSTART:20241103T070000
END:STANDARD
END:VTIMEZONE
BEGIN:VEVENT
DTSTART;TZID=America/Chicago:20231017T183000
DTEND;TZID=America/Chicago:20231017T193000
DTSTAMP:20260420T091917
CREATED:20231003T145658Z
LAST-MODIFIED:20231003T145658Z
UID:2452-1697567400-1697571000@vermilionculturalcenter.org
SUMMARY:The Sectionals to Perform at the LVCC on October 17
DESCRIPTION:The Lake Vermilion Cultural Center will host The Sectionals at St. Mary’s Hall in Tower on October 17 from 6:30 to 7:30 pm. The Sectionals is a group of eight singers of various ages and backgrounds from around the Iron Range. While performing together in larger ensembles the group was created around the interest of concentrated smaller vocal performance utilizing tight harmonies\, jazz-inspired music\, and the flexibility of performing in a wide array of venues across the state. They feature a piano accompaniment\, percussion\, and electric bass. \nRyan Bajan\, member of The Sectionals and treasurer of the LVCC Board said\, “their mission is to fill the audience with the joy of quality and fun vocal music by performers who love to sing”. A free will offering will be accepted and refreshments will be served following the concert. Invite your friends for what will be a fun evening! \nThis will be the tenth time since June that St. Mary’s Hall has been used for a musical performance\, art show\, educational program\, or a play. While the building is not finished the LVCC Board is gratified that it can be used for such events.  If you can’t attend\, but would like to make a donation\, just fill in the form below\, and THANK YOU!
URL:https://vermilionculturalcenter.org/event/the-sectionals-to-perform-at-the-lvcc-on-october-17/
LOCATION:Lake Vermilion Cultural Center\, 705 Main Street\, Tower\, MN\, 55790
CATEGORIES:Events,Fundraising / Benefit
ATTACH;FMTTYPE=image/jpeg:https://vermilionculturalcenter.org/wp/wp-content/uploads/2023/10/the-sectionals.jpg
END:VEVENT
END:VCALENDAR